BEGIN:VCALENDAR
VERSION:2.0
PRODID:-//ChamberMaster//Event Calendar 2.0//EN
METHOD:PUBLISH
X-PUBLISHED-TTL:P3D
REFRESH-INTERVAL:P3D
CALSCALE:GREGORIAN
BEGIN:VEVENT
DTSTART:20230309T230000Z
DTEND:20230310T020000Z
X-MICROSOFT-CDO-ALLDAYEVENT:FALSE
SUMMARY:Saint Patrick's Day Fundraiser
DESCRIPTION:Greater Dundalk Chamber of Commerce St. Patrick's Day Fundraiser
X-ALT-DESC;FMTTYPE=text/html:Greater Dundalk Chamber of Commerce St. Patrick&#39\;s Day Fundraiser
LOCATION:Season Mariner 601 Wise Ave. Dundalk Md. 21222
UID:e.3557.624
SEQUENCE:3
DTSTAMP:20260421T163611Z
URL:http://dundalkchambermd.chambermaster.com/events/details/saint-patrick-s-day-fundraiser-624
END:VEVENT

END:VCALENDAR
